BEGIN:VCALENDAR
VERSION:2.0
PRODID:-//Urbana Seminary - ECPv6.15.20//NONSGML v1.0//EN
CALSCALE:GREGORIAN
METHOD:PUBLISH
X-ORIGINAL-URL:https://urbanatheologicalseminary.org
X-WR-CALDESC:Events for Urbana Seminary
REFRESH-INTERVAL;VALUE=DURATION:PT1H
X-Robots-Tag:noindex
X-PUBLISHED-TTL:PT1H
BEGIN:VTIMEZONE
TZID:UTC
BEGIN:STANDARD
TZOFFSETFROM:+0000
TZOFFSETTO:+0000
TZNAME:UTC
DTSTART:20220101T000000
END:STANDARD
END:VTIMEZONE
BEGIN:VEVENT
DTSTART;TZID=UTC:20241022T190000
DTEND;TZID=UTC:20241105T203000
DTSTAMP:20260423T064528
CREATED:20240815T185202Z
LAST-MODIFIED:20241028T173225Z
UID:8028-1729623600-1730838600@urbanatheologicalseminary.org
SUMMARY:A Taste of Seminary
DESCRIPTION:A Taste of Seminary: Christian Perspectives on Faith\, Culture\, and Contemporary Issues \nTuesdays\, October 22 through November 12\, 2024.\nLocation: Champaign Public Library \n\n— \nOCT 22: Chesterton at 150: Why Read His Work Today? Dr. Melody Green — Friends Conference Room 215 \nBorn in 1874\, the enduring popularity of G. K. Chesterton is\, for many\, an enigma. While he is best known today as the creator of Father Brown\, a crime-solving priest in an ongoing BBC Television series\, he was also an apologist\, a journalist\, a poet\, a playwright\, and a novelist. This talk will serve as an introduction to some of his enduring ideas\, as well as some of his best-known work.  \nOCT 29: Pascal for a Post-Secular Age. Dr. Emily Wenneborg — Friends Conference Room 215. \nOur cultural moment both reveres and mistrusts the certainties of science\, welcomes every form of spiritual expression except traditional Christianity\, and yearns to find purpose in pain. How does the life and work of Blaise Pascal\, a seventeenth-century Frenchman\, help us navigate the pressures and possibilities we face today? \nNOV 5: Insomniac America: A Theological Perspective on Sleep. Dr. Todd T. W. Daly — Busey Bank Conference Room 222 \nSleep seems to have gotten very complicated in our modern era\, as cases of insomnia continue to rise. What is the difference between sleep hygiene and sleep as a spiritual discipline\, and what does Christian theology have to say about sleep and sleeplessness? \nNOV 12: Paradise Lost: A Contemporary Litmus Test for Our Moral Condition. Dr. Pearce Durst — Robeson Pavilion Room A \nA contemporary Christian’s reading of Puritan John Milton’s Paradise Lost\, where devilish actions luster with attractiveness and godly actions prove perplexing\, serves as a litmus test that offers deeper insight into the fallen human condition. Come see where you stand during this discussion which aims to bring this classic epic poem into our contemporary conversation.
URL:https://urbanatheologicalseminary.org/event/a-taste-of-seminary-christian-perspectives-on-faith-culture-and-contemporary-issues/
LOCATION:Champaign Public Library\, 200 W. Green St.\, Champaign\, IL\, 61820\, United States
ATTACH;FMTTYPE=image/png:https://urbanatheologicalseminary.org/wp-content/uploads/2024/08/a-taste-header.png
END:VEVENT
BEGIN:VEVENT
DTSTART;TZID=UTC:20240824T170000
DTEND;TZID=UTC:20240824T193000
DTSTAMP:20260423T064528
CREATED:20240729T193715Z
LAST-MODIFIED:20240729T193715Z
UID:8013-1724518800-1724527800@urbanatheologicalseminary.org
SUMMARY:Back to School Picnic
DESCRIPTION:We’re looking forward to celebrating the start of the fall semester with some delicious food and great company! \n\n\n\n\n\nSave the Date: This year’s picnic is on August 24th!\n\nTime: 5:00 pm\nLocation: Garden Pavilion at Meadowbrook Park in Urbana (Race Street entrance and parking)\nMark your calendars and bring your favorite potluck dish (if you can) for another awesome picnic as we kickoff the new semester. See you there!
URL:https://urbanatheologicalseminary.org/event/back-to-school-picnic-2/
LOCATION:Meadowbrook Park\, 2808 S Race St\, Urbana\, IL\, 61802\, United States
CATEGORIES:In-Person
ORGANIZER;CN="Urbana Theological Seminary":MAILTO:office@urbanatheologicalseminary.org
END:VEVENT
BEGIN:VEVENT
DTSTART;VALUE=DATE:20240704
DTEND;VALUE=DATE:20240708
DTSTAMP:20260423T064528
CREATED:20240617T204758Z
LAST-MODIFIED:20240617T204758Z
UID:7964-1720051200-1720396799@urbanatheologicalseminary.org
SUMMARY:AudioFeed
DESCRIPTION:We are excited to be a part of AudioFeed Festival again! We’ll see you there! Stay tuned for more details.\nCheck out their site for more info: https://audiofeedfestival.com/
URL:https://urbanatheologicalseminary.org/event/audiofeed-2024/
LOCATION:Champaign County Fairgrounds\, 1302 N Coler Ave\, Urbana\, IL\, 61801\, United States
CATEGORIES:In-Person
ATTACH;FMTTYPE=image/png:https://urbanatheologicalseminary.org/wp-content/uploads/2024/06/Urbana-Seminary-at-AudioFeed-website.png
ORGANIZER;CN="Urbana Theological Seminary":MAILTO:office@urbanatheologicalseminary.org
END:VEVENT
BEGIN:VEVENT
DTSTART;TZID=UTC:20240608T130000
DTEND;TZID=UTC:20240608T160000
DTSTAMP:20260423T064528
CREATED:20240422T164243Z
LAST-MODIFIED:20240423T142142Z
UID:7864-1717851600-1717862400@urbanatheologicalseminary.org
SUMMARY:Ancient Israel in Chicago
DESCRIPTION:Join us on June 8th for an exciting trip to Ancient Israel without the long flight! We’ll dive into the world of the Old Testament at the Institute for the Study of Ancient Cultures (ISAC) Museum (formerly known as The Oriental Institute)\, where artifacts from Ancient Israel\, Egypt\, Babylon\, Assyria\, and Canaan await our discovery. \nDr. Ken Cuffey\, Professor of Biblical Studies\, will lead us on a three hour tour of the museum\, explaining the connections between the items on display and the Old Testament. \nWe’ll be gathering at the front door of the museum at 12:45\, ready to enjoy this insightful tour together. \nThe cost for this trip is $25. \n\nClick here to register \n\nFor those needing transportation assistance: the registration form includes an option to indicate if you require a ride. Alternatively\, if you’re interested in driving\, feel free to sign up\, and we’ll coordinate arrangements. \n 
URL:https://urbanatheologicalseminary.org/event/ancient-israel-in-chicago-2024/
LOCATION:Institute for the Study of Ancient Cultures\, 1155 E 58th St.\, Chicago\, IL\, 60637\, United States
CATEGORIES:In-Person
ATTACH;FMTTYPE=image/png:https://urbanatheologicalseminary.org/wp-content/uploads/2024/04/AIIC.png
ORGANIZER;CN="Urbana Theological Seminary":MAILTO:office@urbanatheologicalseminary.org
END:VEVENT
BEGIN:VEVENT
DTSTART;TZID=UTC:20240523T190000
DTEND;TZID=UTC:20240523T203000
DTSTAMP:20260423T064528
CREATED:20231115T155809Z
LAST-MODIFIED:20240507T171953Z
UID:7462-1716490800-1716496200@urbanatheologicalseminary.org
SUMMARY:The Story of Urbana Seminary at 20 Years
DESCRIPTION:Learn about the founding and subsequent history of Urbana Theological Seminary! \nHosted by the Champaign County History Musuem\, “History Talks” is a series of talks pertaining to Champaign County history.
URL:https://urbanatheologicalseminary.org/event/history-talks/
LOCATION:Champaign Public Library\, 200 W. Green St.\, Champaign\, IL\, 61820\, United States
CATEGORIES:20th Anniversary
ATTACH;FMTTYPE=image/png:https://urbanatheologicalseminary.org/wp-content/uploads/2023/11/Talks.png
ORGANIZER;CN="Urbana Theological Seminary":MAILTO:office@urbanatheologicalseminary.org
END:VEVENT
BEGIN:VEVENT
DTSTART;TZID=UTC:20240521T180000
DTEND;TZID=UTC:20240521T193000
DTSTAMP:20260423T064528
CREATED:20240425T170126Z
LAST-MODIFIED:20240425T170126Z
UID:7876-1716314400-1716319800@urbanatheologicalseminary.org
SUMMARY:Urbana Seminary Interest Meeting
DESCRIPTION:You are invited to join us for an upcoming gathering to explore what Urbana Seminary is all about while enjoying some delicious sandwiches on us! \nUrbana Seminary is known for its blend of academic rigor and approachability. We prioritize our students\, offering small class sizes\, a flexible curriculum\, and affordable tuition. \nWe are committed to: \nIntellectual Hospitality: We welcome individuals from diverse perspectives to engage in meaningful discussions rooted in historic Christian thought. \nGrounding in Scripture: Our commitment to the authority of Scripture informs our beliefs and practices. \nFormation in Christ: We strive to cultivate holistic growth\, equipping students to love\, know\, and serve God in all aspects of life. \nPreparation for the Future: Our education is designed to prepare students for the challenges of ministry and life in an ever-changing world. \nWhether you are considering a vocation in ministry or simply curious about seminary education\, we look forward to an evening of insightful conversation and fellowship with you!
URL:https://urbanatheologicalseminary.org/event/urbana-seminary-interest-meeting/
LOCATION:The Bread Company\, 706 S Goodwin Ave\, Urbana\, IL\, 61801\, United States
ORGANIZER;CN="Urbana Theological Seminary":MAILTO:office@urbanatheologicalseminary.org
END:VEVENT
BEGIN:VEVENT
DTSTART;TZID=UTC:20240427T183000
DTEND;TZID=UTC:20240427T200000
DTSTAMP:20260423T064528
CREATED:20240228T184521Z
LAST-MODIFIED:20240416T140840Z
UID:7708-1714242600-1714248000@urbanatheologicalseminary.org
SUMMARY:Book Launch: Thrones in the Desert
DESCRIPTION:Join us for Doug Peterson’s Book Launch for his novel Thrones in the Desert on April 27th at Stratford Park Bible Chapel!  Help us celebrate the work of one of our alumni! \nLearn more about the book here! \n 
URL:https://urbanatheologicalseminary.org/event/book-launch-thrones-in-the-desert/
LOCATION:Stratford Park Bible Chapel\, 2801 W Kirby Ave\, Champaign\, IL\, 61821\, United States
CATEGORIES:In-Person
ATTACH;FMTTYPE=image/png:https://urbanatheologicalseminary.org/wp-content/uploads/2024/02/Doug-Peterson.png
ORGANIZER;CN="Urbana Theological Seminary":MAILTO:office@urbanatheologicalseminary.org
END:VEVENT
BEGIN:VEVENT
DTSTART;TZID=UTC:20240308T180000
DTEND;TZID=UTC:20240308T213000
DTSTAMP:20260423T064528
CREATED:20240215T190928Z
LAST-MODIFIED:20240301T192244Z
UID:7686-1709920800-1709933400@urbanatheologicalseminary.org
SUMMARY:Cabrini: A Film and Theology Night
DESCRIPTION:Join us for our next Film and Theology Night featuring the film\, “Cabrini.” Directed by Alejandro Gómez Monteverde\, this movie explores the life of Roman Catholic missionary and future Saint Francesca Cabrini as she encounters various challenges in late 19th century New York City.\n\nMeet us at Champaign AMC for a screening of Cabrini at 6:00 pm.\n\nThen join us for a theological discussion of the movie at New Horizon Church in Champaign at 9:00 pm.\n\nTimes are subject to change.
URL:https://urbanatheologicalseminary.org/event/cabrini/
LOCATION:New Horizon Church\, 3002 W. Bloomington Rd.\, Champaign\, IL\, 61822\, United States
CATEGORIES:In-Person
ATTACH;FMTTYPE=image/png:https://urbanatheologicalseminary.org/wp-content/uploads/2024/02/Cabrini-Website.png
ORGANIZER;CN="Urbana Theological Seminary":MAILTO:office@urbanatheologicalseminary.org
END:VEVENT
BEGIN:VEVENT
DTSTART;TZID=UTC:20240205T090000
DTEND;TZID=UTC:20240205T153000
DTSTAMP:20260423T064528
CREATED:20231115T154534Z
LAST-MODIFIED:20240119T224939Z
UID:7459-1707123600-1707147000@urbanatheologicalseminary.org
SUMMARY:Spiritual Life Forum with Mel Lawrenz
DESCRIPTION:Seeking Wholeness in a Broken World with Mel Lawrenz \nDr. Mel Lawrenz trains an international network of Christian leaders and has been on the faculty of the University of Wisconsin-Milwaukee and Trinity International University. He has authored 18 books with Zondervan\, Baker\, Jossey-Bass\, Leadership Network\, Regal\, and others.  Titles include Spiritual Leadership Today\, The Dynamics of Spiritual Formation\, and A Chronicle of Grief. \nForum Schedule:\n\n9:00: Welcome and Introductions\n9:15: Session One: “Patterns: The Possibility of the God-Filled Life”\n10:15: Break\n10:30: Session Two: “The Dynamics of Formation”\n11:30: Q & A\n11:45: Catered Lunch\n1:00: Session Three: “Spiritual Influence: The Hidden Power Behind Leadership”\n2:00: Mid-Afternoon Break\n2:15: Session Four: “Facing Crisis”\n3:15: Q & A\n3:30: Finish \nThis forum is not just an event; it’s a space where individuals come together to connect with each other\, contemplate their spiritual walk\, and discover practices for growth and wholeness. As a special treat\, we’re thrilled to announce that attendees will receive a complimentary copy of Spiritual Influence by Mel Lawrenz\, exploring the keys to spiritual grounding\, taking initiative\, and navigating challenges with resilience. \nREGISTER HERE! \n$25 Registration Fee (includes catered lunch) \nLocation: New Horizon Church (3002 W Bloomington Rd\, Champaign\, IL 61822)
URL:https://urbanatheologicalseminary.org/event/spiritual-life-forum-with-mel-lawrenz/
LOCATION:New Horizon Church\, 3002 W. Bloomington Rd.\, Champaign\, IL\, 61822\, United States
CATEGORIES:20th Anniversary,In-Person
ATTACH;FMTTYPE=image/png:https://urbanatheologicalseminary.org/wp-content/uploads/2023/11/Seeking-Wholeness-in-a-Broken-World.png
ORGANIZER;CN="Urbana Theological Seminary":MAILTO:office@urbanatheologicalseminary.org
END:VEVENT
BEGIN:VEVENT
DTSTART;TZID=UTC:20231208T190000
DTEND;TZID=UTC:20231208T203000
DTSTAMP:20260423T064528
CREATED:20231109T200915Z
LAST-MODIFIED:20231115T153242Z
UID:7402-1702062000-1702067400@urbanatheologicalseminary.org
SUMMARY:Christmas at the Movies: Exploring the Genre\, History\, and Theology of Christmas Films
DESCRIPTION:Christmas movies are a filmmaking tradition that date back to the 19th century. But what defines a Christmas movie? And what’s a Christian to do with them\, anyway? If you’re wondering whether Die Hard is a Christmas movie\, or how to engage those formulaic Hallmark movies\, come out to Windsor Road Christian Church on Friday\, December 8th from 7:00-8:30 for an engaging discussion about the theology of Christmas movies\, giveaways\, games\, goodies\, and more!
URL:https://urbanatheologicalseminary.org/event/christmas-at-the-movies/
LOCATION:Windsor Road Christian Church\, 2501 W Windsor Rd\, Champaign\, IL\, 61822\, United States
CATEGORIES:20th Anniversary,In-Person
ATTACH;FMTTYPE=image/png:https://urbanatheologicalseminary.org/wp-content/uploads/2023/11/Christmas-movie-talkFB.png
ORGANIZER;CN="Urbana Theological Seminary":MAILTO:office@urbanatheologicalseminary.org
END:VEVENT
BEGIN:VEVENT
DTSTART;TZID=UTC:20231202T170000
DTEND;TZID=UTC:20231202T210000
DTSTAMP:20260423T064528
CREATED:20230830T211308Z
LAST-MODIFIED:20230830T211308Z
UID:6798-1701536400-1701550800@urbanatheologicalseminary.org
SUMMARY:Howl's Moving Castle: A Faith and Film Movie Night
DESCRIPTION:Come explore how popular\, beloved\, and thought-provoking films intersect with the Christian faith! We will watch each movie together and spend some time discussing its themes\, while enjoying some tasty snacks.
URL:https://urbanatheologicalseminary.org/event/howls-moving-castle/
LOCATION:Twin City Bible Church\, 806 W Michigan Ave\, Urbana\, IL\, 61801\, United States
CATEGORIES:In-Person
ATTACH;FMTTYPE=image/png:https://urbanatheologicalseminary.org/wp-content/uploads/2023/08/Howls-Moving-Castle.png
END:VEVENT
BEGIN:VEVENT
DTSTART;TZID=UTC:20231118T180000
DTEND;TZID=UTC:20231118T200000
DTSTAMP:20260423T064528
CREATED:20230830T205439Z
LAST-MODIFIED:20230830T205439Z
UID:6788-1700330400-1700337600@urbanatheologicalseminary.org
SUMMARY:Can you fund friendship?
DESCRIPTION:a dinner discussion on unlikely friendships
URL:https://urbanatheologicalseminary.org/event/can-you-fund-friendship/
LOCATION:All Souls Presbyterian Church\, 202 W Illinois St.\, Urbana\, IL\, 61801\, United States
CATEGORIES:In-Person
ATTACH;FMTTYPE=image/png:https://urbanatheologicalseminary.org/wp-content/uploads/2023/08/can-you-fund-friendship.png
END:VEVENT
BEGIN:VEVENT
DTSTART;TZID=UTC:20231111T190000
DTEND;TZID=UTC:20231111T203000
DTSTAMP:20260423T064528
CREATED:20230829T184927Z
LAST-MODIFIED:20230829T185116Z
UID:6755-1699729200-1699734600@urbanatheologicalseminary.org
SUMMARY:Math and Love
DESCRIPTION:What does mathematics have to do with love? Join Dr. James Drimalla (University of Virginia) to uncover the connection between mathematics and flourishing human relationships.
URL:https://urbanatheologicalseminary.org/event/math-and-love/
LOCATION:All Souls Presbyterian Church\, 202 W Illinois St.\, Urbana\, IL\, 61801\, United States
CATEGORIES:In-Person
ATTACH;FMTTYPE=image/png:https://urbanatheologicalseminary.org/wp-content/uploads/2023/08/Math-and-Love.png
END:VEVENT
BEGIN:VEVENT
DTSTART;TZID=UTC:20231104T170000
DTEND;TZID=UTC:20231104T210000
DTSTAMP:20260423T064528
CREATED:20230830T211054Z
LAST-MODIFIED:20230830T211054Z
UID:6795-1699117200-1699131600@urbanatheologicalseminary.org
SUMMARY:X-Men: A Faith and Film Movie Night
DESCRIPTION:Come explore how popular\, beloved\, and thought-provoking films intersect with the Christian faith! We will watch each movie together and spend some time discussing its themes\, while enjoying some tasty snacks.
URL:https://urbanatheologicalseminary.org/event/x-men/
LOCATION:Twin City Bible Church\, 806 W Michigan Ave\, Urbana\, IL\, 61801\, United States
CATEGORIES:In-Person
ATTACH;FMTTYPE=image/png:https://urbanatheologicalseminary.org/wp-content/uploads/2023/08/X-Men.png
END:VEVENT
BEGIN:VEVENT
DTSTART;TZID=UTC:20231014T170000
DTEND;TZID=UTC:20231014T210000
DTSTAMP:20260423T064528
CREATED:20230830T210844Z
LAST-MODIFIED:20230830T210844Z
UID:6791-1697302800-1697317200@urbanatheologicalseminary.org
SUMMARY:Arrival: A Faith and Film Movie Night
DESCRIPTION:Come explore how popular\, beloved\, and thought-provoking films intersect with the Christian faith! We will watch each movie together and spend some time discussing its themes\, while enjoying some tasty snacks.
URL:https://urbanatheologicalseminary.org/event/arrival-a-faith-and-film-movie-night/
LOCATION:Twin City Bible Church\, 806 W Michigan Ave\, Urbana\, IL\, 61801\, United States
CATEGORIES:In-Person
ATTACH;FMTTYPE=image/png:https://urbanatheologicalseminary.org/wp-content/uploads/2023/08/Arrival.png
END:VEVENT
BEGIN:VEVENT
DTSTART;TZID=UTC:20231007T180000
DTEND;TZID=UTC:20231007T200000
DTSTAMP:20260423T064528
CREATED:20230830T204848Z
LAST-MODIFIED:20230830T204947Z
UID:6784-1696701600-1696708800@urbanatheologicalseminary.org
SUMMARY:The Beauty of Belonging
DESCRIPTION:A dinner discussion on unlikely friendships
URL:https://urbanatheologicalseminary.org/event/the-beauty-of-belonging/
LOCATION:All Souls Presbyterian Church\, 202 W Illinois St.\, Urbana\, IL\, 61801\, United States
CATEGORIES:In-Person
ATTACH;FMTTYPE=image/png:https://urbanatheologicalseminary.org/wp-content/uploads/2023/08/The-Beauty-of-Belonging.png
END:VEVENT
BEGIN:VEVENT
DTSTART;TZID=UTC:20230922T080000
DTEND;TZID=UTC:20230923T170000
DTSTAMP:20260423T064528
CREATED:20230823T034901Z
LAST-MODIFIED:20231115T195215Z
UID:6718-1695369600-1695488400@urbanatheologicalseminary.org
SUMMARY:Tolkien Conference
DESCRIPTION:
URL:https://urbanatheologicalseminary.org/event/tolkienconference/
LOCATION:TBD\, Urbana\, IL\, United States
CATEGORIES:20th Anniversary
ATTACH;FMTTYPE=image/png:https://urbanatheologicalseminary.org/wp-content/uploads/2023/08/SmTolkien.png
ORGANIZER;CN="Urbana Theological Seminary":MAILTO:office@urbanatheologicalseminary.org
END:VEVENT
BEGIN:VEVENT
DTSTART;TZID=UTC:20230915T160000
DTEND;TZID=UTC:20230915T210000
DTSTAMP:20260423T064528
CREATED:20230823T034122Z
LAST-MODIFIED:20230912T155109Z
UID:6713-1694793600-1694811600@urbanatheologicalseminary.org
SUMMARY:Oppenheimer: UTS Movie Night
DESCRIPTION:RSVP coming soon!
URL:https://urbanatheologicalseminary.org/event/oppenheimer/
LOCATION:Savoy 16\, 232 Burwash Ave\, Savoy\, IL\, 61874\, United States
ATTACH;FMTTYPE=image/png:https://urbanatheologicalseminary.org/wp-content/uploads/2023/08/Oppenheimer-FB.png
ORGANIZER;CN="Urbana Theological Seminary":MAILTO:office@urbanatheologicalseminary.org
END:VEVENT
BEGIN:VEVENT
DTSTART;TZID=UTC:20230825T170000
DTEND;TZID=UTC:20230825T200000
DTSTAMP:20260423T064528
CREATED:20230814T174330Z
LAST-MODIFIED:20230825T164436Z
UID:6527-1692982800-1692993600@urbanatheologicalseminary.org
SUMMARY:Barbie: UTS Movie Night
DESCRIPTION:Friday\, August 25\, Savoy 16. Meet in Lobby @ 5:30 ($12 tickets) followed by discussion at 8:30 (Email: pdurst@urbanatheolgocialseminary.org) Snacks / Drinks Provided!
URL:https://urbanatheologicalseminary.org/event/barbie-uts-movie-night/
LOCATION:Savoy 16\, 232 Burwash Ave\, Savoy\, IL\, 61874\, United States
ATTACH;FMTTYPE=image/png:https://urbanatheologicalseminary.org/wp-content/uploads/2023/08/Barbie-FB.png
ORGANIZER;CN="Urbana Theological Seminary":MAILTO:office@urbanatheologicalseminary.org
END:VEVENT
BEGIN:VEVENT
DTSTART;VALUE=DATE:20230821
DTEND;VALUE=DATE:20230822
DTSTAMP:20260423T064528
CREATED:20230629T132702Z
LAST-MODIFIED:20230815T171908Z
UID:6272-1692576000-1692662399@urbanatheologicalseminary.org
SUMMARY:Fall Semester 2023 Begins
DESCRIPTION:
URL:https://urbanatheologicalseminary.org/event/fall-semester-begins/
LOCATION:IL
ATTACH;FMTTYPE=image/png:https://urbanatheologicalseminary.org/wp-content/uploads/2023/06/backtoschool.png
END:VEVENT
BEGIN:VEVENT
DTSTART;TZID=UTC:20230819T170000
DTEND;TZID=UTC:20230819T200000
DTSTAMP:20260423T064528
CREATED:20230814T171138Z
LAST-MODIFIED:20230815T170352Z
UID:6521-1692464400-1692475200@urbanatheologicalseminary.org
SUMMARY:Back To School Picnic
DESCRIPTION:Everyone is welcome—students\, alumni\, friends of the Seminary\, faculty.\nBeverages\, paper goods\, and meat will be provided.
URL:https://urbanatheologicalseminary.org/event/back-to-school-picnic/
LOCATION:Garden Pavilion (Meadowbrook Park)\, 2808 S. Race Street\, Urbana\, IL\, 61802\, United States
ATTACH;FMTTYPE=image/png:https://urbanatheologicalseminary.org/wp-content/uploads/2023/08/picnic-1.png
ORGANIZER;CN="Urbana Theological Seminary":MAILTO:office@urbanatheologicalseminary.org
END:VEVENT
END:VCALENDAR