BEGIN:VCALENDAR
VERSION:2.0
PRODID:-//Urbana Seminary - ECPv6.15.20//NONSGML v1.0//EN
CALSCALE:GREGORIAN
METHOD:PUBLISH
X-ORIGINAL-URL:https://urbanatheologicalseminary.org
X-WR-CALDESC:Events for Urbana Seminary
REFRESH-INTERVAL;VALUE=DURATION:PT1H
X-Robots-Tag:noindex
X-PUBLISHED-TTL:PT1H
BEGIN:VTIMEZONE
TZID:UTC
BEGIN:STANDARD
TZOFFSETFROM:+0000
TZOFFSETTO:+0000
TZNAME:UTC
DTSTART:20250101T000000
END:STANDARD
END:VTIMEZONE
BEGIN:VEVENT
DTSTART;TZID=UTC:20260427T090000
DTEND;TZID=UTC:20260427T160000
DTSTAMP:20260423T044153
CREATED:20251208T203043Z
LAST-MODIFIED:20260401T144849Z
UID:8434-1777280400-1777305600@urbanatheologicalseminary.org
SUMMARY:Ministry Forum
DESCRIPTION:SIGN UP HERE\n  \nConnected by Story: Building your Community through Media\nDate: April 27\, 2026\nLocation: Stratford Park Bible Chapel\nTime: 9:00 AM – 4:00 PM\nCost: $40 per person\, lunch included\nFeaturing Dr. Matt Green and Monty Klecker\nThe heart of ministry is relationship — and the heart of relationship is story. In Scripture\, God uses story to reveal His nature\, transform lives\, and unite His people. Today’s digital world gives ministries more opportunities than ever to share their story with purpose\, creativity\, and impact. Urbana Seminary’s inaugural Ministry Forum will provide you with more than theory — you’ll leave with tools\, strategies\, and inspiration to share through story in ways that engage hearts\, grow trust\, and invite people deeper into community. \nDr. Matt Green is a seasoned Web & Software Development instructor and program lead at Waukesha County Technical College. He holds a Doctorate in Contextualized Ministry from Northwind Theological Seminary\, where his studies focused on education\, global digital ministry and the intersection of AI and faith. \nMontie Klecker is the Director of Student Ministries at Meadowbrook Church in Wauwatosa\, WI\, and a Master of Divinity graduate from Duke Divinity School with a focus on Theology and the Arts. He previously worked as a creative director specializing in church videography\, designing their online presence and crafting videos to point people back toward the Gospel messages from the Church’s sermons.
URL:https://urbanatheologicalseminary.org/event/ministry-forum/
LOCATION:Stratford Park Bible Chapel\, 2801 W Kirby Ave\, Champaign\, IL\, 61821\, United States
ATTACH;FMTTYPE=image/png:https://urbanatheologicalseminary.org/wp-content/uploads/2025/12/mf26.png
END:VEVENT
BEGIN:VEVENT
DTSTART;TZID=UTC:20260509T083000
DTEND;TZID=UTC:20260509T150000
DTSTAMP:20260423T044153
CREATED:20260401T145611Z
LAST-MODIFIED:20260401T145715Z
UID:8479-1778315400-1778338800@urbanatheologicalseminary.org
SUMMARY:Library Book Sale
DESCRIPTION:Remember the excitement of a school book fair\, the thrill of discovering something unexpected on every table? We invite you to rediscover that joy at Urbana Seminary’s library booksale. Each year\, we receive a wide range of donated books—some beyond our collection’s scope\, others duplicates of titles we already hold. This sale is our way of placing these excellent resources into your hands at a fraction of their original cost. \nIf you are interested in volunteering or if you have any questions\, please contact Dr. Melody Green. \nWhether you’re interested in biblical commentaries\, theology\, spiritual formation\, Christianity and culture\, Bible studies\, church history\, or Christian fiction\, you’ll find a wide range of titles waiting to be discovered at our book sale. \nThere’s something here for every reader\, and we’d love to see you there!
URL:https://urbanatheologicalseminary.org/event/library-book-sale/
LOCATION:Stratford Park Bible Chapel\, 2801 W Kirby Ave\, Champaign\, IL\, 61821\, United States
ATTACH;FMTTYPE=image/png:https://urbanatheologicalseminary.org/wp-content/uploads/2026/04/book-sale.png
END:VEVENT
BEGIN:VEVENT
DTSTART;TZID=UTC:20260530T130000
DTEND;TZID=UTC:20260530T160000
DTSTAMP:20260423T044153
CREATED:20260401T150239Z
LAST-MODIFIED:20260401T153047Z
UID:8483-1780146000-1780156800@urbanatheologicalseminary.org
SUMMARY:The Old Testament in Chicago
DESCRIPTION:REGISTER HERE\nJoin us on May 30th for an unforgettable journey through the Old Testament in Chicago! We’ll step into the past at the Institute for the Study of Ancient Cultures (ISAC) Museum (formerly the Oriental Institute) on the University of Chicago campus\, where fascinating artifacts from Ancient Israel\, Egypt\, Babylon\, Assyria\, and Canaan bring history to life. Dr. Ken Cuffey\, Professor of Biblical Studies\, will guide us on a three-hour tour\, illuminating the deep connections between the museum’s treasures and the Old Testament narratives. \nTime: 1:00 pm (We’ll meet at the museum’s front entrance at 12:45)\nCost: $25\nLocation: The University of Chicago campus (1155 E 58th Street\, Chicago 60637).  \nFor those needing transportation: The registration form offers an option to request a ride. If you’d like to help by driving\, please contact Dr. Melody Green to let us know when you sign up\, and we’ll arrange the details. Feel free to invite friends interested in learning more about ancient cultures! We look forward to seeing you there!
URL:https://urbanatheologicalseminary.org/event/8483/
LOCATION:The University of Chicago\, 1155 E 58th Street\, Chicago\, Illinois
ATTACH;FMTTYPE=image/png:https://urbanatheologicalseminary.org/wp-content/uploads/2026/04/isac-1.png
END:VEVENT
END:VCALENDAR